BEGIN:VCALENDAR
VERSION:2.0
PRODID:-// - ECPv6.15.20//NONSGML v1.0//EN
CALSCALE:GREGORIAN
METHOD:PUBLISH
X-ORIGINAL-URL:https://blossomwoodbotanicals.com
X-WR-CALDESC:Events for 
REFRESH-INTERVAL;VALUE=DURATION:PT1H
X-Robots-Tag:noindex
X-PUBLISHED-TTL:PT1H
BEGIN:VTIMEZONE
TZID:America/Los_Angeles
BEGIN:DAYLIGHT
TZOFFSETFROM:-0800
TZOFFSETTO:-0700
TZNAME:PDT
DTSTART:20250309T100000
END:DAYLIGHT
BEGIN:STANDARD
TZOFFSETFROM:-0700
TZOFFSETTO:-0800
TZNAME:PST
DTSTART:20251102T090000
END:STANDARD
BEGIN:DAYLIGHT
TZOFFSETFROM:-0800
TZOFFSETTO:-0700
TZNAME:PDT
DTSTART:20260308T100000
END:DAYLIGHT
BEGIN:STANDARD
TZOFFSETFROM:-0700
TZOFFSETTO:-0800
TZNAME:PST
DTSTART:20261101T090000
END:STANDARD
BEGIN:DAYLIGHT
TZOFFSETFROM:-0800
TZOFFSETTO:-0700
TZNAME:PDT
DTSTART:20270314T100000
END:DAYLIGHT
BEGIN:STANDARD
TZOFFSETFROM:-0700
TZOFFSETTO:-0800
TZNAME:PST
DTSTART:20271107T090000
END:STANDARD
END:VTIMEZONE
BEGIN:VEVENT
DTSTART;TZID=America/Los_Angeles:20260328T110000
DTEND;TZID=America/Los_Angeles:20260328T130000
DTSTAMP:20260423T144635
CREATED:20260219T193144Z
LAST-MODIFIED:20260316T190450Z
UID:736-1774695600-1774702800@blossomwoodbotanicals.com
SUMMARY:Herbal Remedies for Stress and Anxiety
DESCRIPTION:Class Description\nLearn how herbal remedies can be used to help people cope with everyday stress and anxiety. This class introduces supportive plants\, along with simple lifestyle practices that promote resilience. We’ll discuss many topics\, including: adaptogens\, herbs that support the nervous system\, herbal teas\, tinctures\, infused oils\, flower essences\, and basic safety tips for using herbs — making this a great entry point for anyone seeking natural ways to unwind and restore balance. There will be samples of remedies shared! \nSome topics and activities in this class \n\nadaptogenic herbs\nnervine herbs (nervous system support)\nherb sourcing\, quality\, and sustainability\nspecific herbal remedies (teas\, tinctures\, oils\, flower essences)\nmeditation with a flower essence\ntastings of herbal remedies!\n\nHow do I register? \nTo register\, please scroll to the bottom of this page. \nWhat to bring? \nPlease bring a notebook and something to write with for note-taking. \nWho is this class perfect for? \nThis class is a great fit for anyone who could use extra support with stress or anxiety in their life or wants to help others. This class will offer valuable learning for participants at both beginner and intermediate levels. \nWhat will you bring home? \nStudents will be invited to take a flower essence home to continue working with it. \nYou will receive a printed guide of course content\, links to herbal blends for stress and anxiety\, and a curated resource list. \nYou will also be invited to join the Blossomwood Botanicals email newsletter to keep up to date on Leland’s herbalism practice and future classes. \n*** \nAbout the herbalist\n \nLeland’s work with plants began in childhood\, guided by her mother and the old ways of Northern Italy. She later completed formal training at the Berkeley Herbal Center\, including a year-long intensive clinical program and a year of mentored clinical practice. She now teaches there as part of the faculty. Her herbal education also includes studies with Scott Kloos\, the Chestnut School of Herbal Medicine\, the Eclectic School of Herbal Medicine\, and practitioner training with Flower Essence Studies. \n*** \nAbout the location – Blossomwood Farmstead \n \nBlossomwood Farmstead is a magical 42-acre healing sanctuary in the heart of the Yachats River Valley\, just 15 minutes from the ocean and the town of Yachats. It is a place of deep restoration\, where Leland tends the land and cultivates long-standing relationships with the herbs she grows. \n*** \nA few important notes \nThe specific address will be shared with participants after registration. \nClass attendance is limited to 10 students. \nIf you need to cancel your registration\, please let me know as soon as possible. Kindly note that cancellations within 48 hours of the class meeting are non-refundable.
URL:https://blossomwoodbotanicals.com/event/herbal-remedies-for-stress-and-anxiety
LOCATION:Blossomwood Farmstead\, Yachats River Road\, Yachats\, OR\, 97498\, United States
CATEGORIES:Herbalism class,Intro level
ATTACH;FMTTYPE=image/png:https://blossomwoodbotanicals.com/wp-content/uploads/2026/02/passionflower_essence_smaller.png
ORGANIZER;CN="Leland":MAILTO:herbalist.lleland@gmail.com
END:VEVENT
BEGIN:VEVENT
DTSTART;TZID=America/Los_Angeles:20260314T110000
DTEND;TZID=America/Los_Angeles:20260314T130000
DTSTAMP:20260423T144635
CREATED:20260227T173330Z
LAST-MODIFIED:20260313T163240Z
UID:824-1773486000-1773493200@blossomwoodbotanicals.com
SUMMARY:Intro to Western Herbalism - March 14
DESCRIPTION:Class description \nCome spend two hours at the Herbal Studio of Blossomwood Farmstead for Introduction to Western Herbalism. Clinical herbalist L. Leland will introduce some common herbs\, guide you through demonstrations and tastings of different preparations of herbal remedies\, and share trustworthy references for continued learning. \nWe will sit together for a meditation with a flower essence. \nSome topics and activities in this class \n\nhistory and definition of Western Herbalism\nhow to read herbal monographs\nherb sourcing\, quality\, and sustainability\nvarious ways to prepare and use herbs\ndemos of a few preparations\ntastings of herbal remedies!\n\nHow do I register? \nTo register\, please scroll to the bottom of this page. \nWhat to bring? \nPlease bring a notebook and something to write with for note-taking. \nWho is this class perfect for? \nThis class is a great fit for anyone who feels drawn to herbalism—whether you’ve already dabbled in making home remedies or are just beginning your journey. This class will offer valuable learning for participants at both beginner and intermediate levels. \nWhat will you bring home? \nStudents will be invited to take a flower essence home to continue working with it. \nYou will receive a printed guide of course content\, links to many of Leland’s herbal remedy recipes\, and a curated resource list. \nYou will also be invited to join the Blossomwood Botanicals email newsletter to keep up to date on Leland’s herbalism practice and future classes. \n*** \nAbout the herbalist \n \nLeland’s work with plants began in childhood\, guided by her mother and the old ways of Northern Italy. She later completed formal training at the Berkeley Herbal Center\, including a year-long intensive clinical program and a year of mentored clinical practice. She now teaches there as part of the faculty. Her herbal education also includes studies with Scott Kloos\, the Chestnut School of Herbal Medicine\, and practitioner training with Flower Essence Studies. \n*** \nAbout the location – Blossomwood Farmstead \n \nBlossomwood Farmstead is a magical 42-acre healing sanctuary in the heart of the Yachats River Valley\, just 15 minutes from the ocean and the town of Yachats. It is a place of deep restoration\, where Leland tends the land and cultivates long-standing relationships with the herbs she grows. \n*** \nA few important notes \nThe specific address will be shared with participants after registration. \nClass attendance is limited to 10 students. \nIf you need to cancel your registration\, please let me know as soon as possible. Kindly note that cancellations within 48 hours of the class meeting are non-refundable.
URL:https://blossomwoodbotanicals.com/event/intro-to-western-herbalism-march-14
LOCATION:Blossomwood Farmstead\, Yachats River Road\, Yachats\, OR\, 97498\, United States
CATEGORIES:Herbalism class,Intermediate level,Intro level
ATTACH;FMTTYPE=image/jpeg:https://blossomwoodbotanicals.com/wp-content/uploads/2026/01/BB_dispensary_sm.jpg
ORGANIZER;CN="Leland":MAILTO:herbalist.lleland@gmail.com
END:VEVENT
BEGIN:VEVENT
DTSTART;TZID=America/Los_Angeles:20260305T183000
DTEND;TZID=America/Los_Angeles:20260305T203000
DTSTAMP:20260423T144635
CREATED:20260209T192818Z
LAST-MODIFIED:20260313T161821Z
UID:648-1772735400-1772742600@blossomwoodbotanicals.com
SUMMARY:Intro to Western Herbalism
DESCRIPTION:Class description \nCome spend two hours at the Herbal Studio of Blossomwood Farmstead for Introduction to Western Herbalism. Clinical herbalist L. Leland will introduce some common herbs\, guide you through demonstrations and tastings of different preparations of herbal remedies\, and share trustworthy references for continued learning. \nWe will sit together for a meditation with a flower essence. \nSome topics and activities in this class \n\nhistory and definition of Western Herbalism\nhow to read herbal monographs\nherb sourcing\, quality\, and sustainability\nvarious ways to prepare and use herbs\ndemos of a few preparations\ntastings of herbal remedies!\n\nHow do I register? \nTo register\, please scroll to the bottom of this page. \nWhat to bring? \nPlease bring a notebook and something to write with for note-taking. \nWho is this class perfect for? \nThis class is a great fit for anyone who feels drawn to herbalism—whether you’ve already dabbled in making home remedies or are just beginning your journey. This class will offer valuable learning for participants at both beginner and intermediate levels. \nWhat will you bring home? \nStudents will be invited to take a flower essence home to continue working with it. \nYou will receive a printed guide of course content\, links to many of Leland’s herbal remedy recipes\, and a curated resource list. \nYou will also be invited to join the Blossomwood Botanicals email newsletter to keep up to date on Leland’s herbalism practice and future classes. \n*** \nAbout the herbalist \n \nLeland’s work with plants began in childhood\, guided by her mother and the old ways of Northern Italy. She later completed formal training at the Berkeley Herbal Center\, including a year-long intensive clinical program and a year of mentored clinical practice. She now teaches there as part of the faculty. Her herbal education also includes studies with Scott Kloos\, the Chestnut School of Herbal Medicine\, and practitioner training with Flower Essence Studies. \n*** \nAbout the location – Blossomwood Farmstead \n \nBlossomwood Farmstead is a magical 42-acre healing sanctuary in the heart of the Yachats River Valley\, just 15 minutes from the ocean and the town of Yachats. It is a place of deep restoration\, where Leland tends the land and cultivates long-standing relationships with the herbs she grows. \n*** \nA few important notes \nThe specific address will be shared with participants after registration. \nClass attendance is limited to 10 students. \nIf you need to cancel your registration\, please let me know as soon as possible. Kindly note that cancellations within 48 hours of the class meeting are non-refundable.
URL:https://blossomwoodbotanicals.com/event/intro-to-western-herbalism
LOCATION:Blossomwood Farmstead\, Yachats River Road\, Yachats\, OR\, 97498\, United States
CATEGORIES:Herbalism class,Intro level
ATTACH;FMTTYPE=image/jpeg:https://blossomwoodbotanicals.com/wp-content/uploads/2026/01/BB_dispensary.jpg
ORGANIZER;CN="Leland":MAILTO:herbalist.lleland@gmail.com
END:VEVENT
END:VCALENDAR